BEGIN:VCALENDAR
VERSION:2.0
PRODID:-//The Arc of Illinois - ECPv6.15.17.1//NONSGML v1.0//EN
CALSCALE:GREGORIAN
METHOD:PUBLISH
X-ORIGINAL-URL:https://www.thearcofil.org
X-WR-CALDESC:Events for The Arc of Illinois
REFRESH-INTERVAL;VALUE=DURATION:PT1H
X-Robots-Tag:noindex
X-PUBLISHED-TTL:PT1H
BEGIN:VTIMEZONE
TZID:America/Chicago
BEGIN:DAYLIGHT
TZOFFSETFROM:-0600
TZOFFSETTO:-0500
TZNAME:CDT
DTSTART:20200308T080000
END:DAYLIGHT
BEGIN:STANDARD
TZOFFSETFROM:-0500
TZOFFSETTO:-0600
TZNAME:CST
DTSTART:20201101T070000
END:STANDARD
BEGIN:DAYLIGHT
TZOFFSETFROM:-0600
TZOFFSETTO:-0500
TZNAME:CDT
DTSTART:20210314T080000
END:DAYLIGHT
BEGIN:STANDARD
TZOFFSETFROM:-0500
TZOFFSETTO:-0600
TZNAME:CST
DTSTART:20211107T070000
END:STANDARD
BEGIN:DAYLIGHT
TZOFFSETFROM:-0600
TZOFFSETTO:-0500
TZNAME:CDT
DTSTART:20220313T080000
END:DAYLIGHT
BEGIN:STANDARD
TZOFFSETFROM:-0500
TZOFFSETTO:-0600
TZNAME:CST
DTSTART:20221106T070000
END:STANDARD
END:VTIMEZONE
BEGIN:VEVENT
DTSTART;TZID=America/Chicago:20210221T180000
DTEND;TZID=America/Chicago:20210221T190000
DTSTAMP:20260419T184658
CREATED:20210119T191046Z
LAST-MODIFIED:20210119T191046Z
UID:12908-1613930400-1613934000@www.thearcofil.org
SUMMARY:Illinois Adult Sibling Gathering sponsored by Sibling Leadership Network (SIBS)
DESCRIPTION:Please join S.I.B.S for another opportunity to share concerns and joys with  having a sibling with a disability.\nWe will discuss how things are going during this challenging time\, provide opportunities for peer support\, and share information. We welcome siblings who have previously attended our sibling gatherings and encourage new siblings to attend as well!\nThis meeting is intended for adult siblings of people with disabilities. \nTo register please click here:\nhttps://zoom.us/meeting/register/tJUofumqrjspGNz0b7NCtvIMyFamKKoPpyAk
URL:https://www.thearcofil.org/event/illinois-adult-sibling-gathering-sponsored-by-sibling-leadership-network-sibs/
END:VEVENT
END:VCALENDAR