BEGIN:VCALENDAR
VERSION:2.0
PRODID:-//The Arc of Illinois - ECPv6.15.17.1//NONSGML v1.0//EN
CALSCALE:GREGORIAN
METHOD:PUBLISH
X-ORIGINAL-URL:https://www.thearcofil.org
X-WR-CALDESC:Events for The Arc of Illinois
REFRESH-INTERVAL;VALUE=DURATION:PT1H
X-Robots-Tag:noindex
X-PUBLISHED-TTL:PT1H
BEGIN:VTIMEZONE
TZID:America/Chicago
BEGIN:DAYLIGHT
TZOFFSETFROM:-0600
TZOFFSETTO:-0500
TZNAME:CDT
DTSTART:20200308T080000
END:DAYLIGHT
BEGIN:STANDARD
TZOFFSETFROM:-0500
TZOFFSETTO:-0600
TZNAME:CST
DTSTART:20201101T070000
END:STANDARD
BEGIN:DAYLIGHT
TZOFFSETFROM:-0600
TZOFFSETTO:-0500
TZNAME:CDT
DTSTART:20210314T080000
END:DAYLIGHT
BEGIN:STANDARD
TZOFFSETFROM:-0500
TZOFFSETTO:-0600
TZNAME:CST
DTSTART:20211107T070000
END:STANDARD
BEGIN:DAYLIGHT
TZOFFSETFROM:-0600
TZOFFSETTO:-0500
TZNAME:CDT
DTSTART:20220313T080000
END:DAYLIGHT
BEGIN:STANDARD
TZOFFSETFROM:-0500
TZOFFSETTO:-0600
TZNAME:CST
DTSTART:20221106T070000
END:STANDARD
END:VTIMEZONE
BEGIN:VEVENT
DTSTART;TZID=America/Chicago:20210301T160000
DTEND;TZID=America/Chicago:20210301T180000
DTSTAMP:20260423T082812
CREATED:20201113T152723Z
LAST-MODIFIED:20201113T152723Z
UID:12393-1614614400-1614621600@www.thearcofil.org
SUMMARY:Co-Parenting and Blended Families: Strategies for Working Together through the Special Education Process (Webinar) - StarNet
DESCRIPTION:Co-parenting\, especially within blended families\, can be stressful at times. When children have IFSPs or IEPs the stress and anxiety can increase within the structure of co-parenting. In this training\, participants will learn strategies\, tips\, and techniques for managing co-parenting of a child with special needs. \nPresenter(s)\n\nAnni Reinking
URL:https://www.thearcofil.org/event/co-parenting-and-blended-families-strategies-for-working-together-through-the-special-education-process-webinar-starnet/
END:VEVENT
END:VCALENDAR