BEGIN:VCALENDAR
VERSION:2.0
PRODID:-//The Arc of Illinois - ECPv6.15.17.1//NONSGML v1.0//EN
CALSCALE:GREGORIAN
METHOD:PUBLISH
X-ORIGINAL-URL:https://www.thearcofil.org
X-WR-CALDESC:Events for The Arc of Illinois
REFRESH-INTERVAL;VALUE=DURATION:PT1H
X-Robots-Tag:noindex
X-PUBLISHED-TTL:PT1H
BEGIN:VTIMEZONE
TZID:America/Chicago
BEGIN:DAYLIGHT
TZOFFSETFROM:-0600
TZOFFSETTO:-0500
TZNAME:CDT
DTSTART:20200308T080000
END:DAYLIGHT
BEGIN:STANDARD
TZOFFSETFROM:-0500
TZOFFSETTO:-0600
TZNAME:CST
DTSTART:20201101T070000
END:STANDARD
BEGIN:DAYLIGHT
TZOFFSETFROM:-0600
TZOFFSETTO:-0500
TZNAME:CDT
DTSTART:20210314T080000
END:DAYLIGHT
BEGIN:STANDARD
TZOFFSETFROM:-0500
TZOFFSETTO:-0600
TZNAME:CST
DTSTART:20211107T070000
END:STANDARD
BEGIN:DAYLIGHT
TZOFFSETFROM:-0600
TZOFFSETTO:-0500
TZNAME:CDT
DTSTART:20220313T080000
END:DAYLIGHT
BEGIN:STANDARD
TZOFFSETFROM:-0500
TZOFFSETTO:-0600
TZNAME:CST
DTSTART:20221106T070000
END:STANDARD
END:VTIMEZONE
BEGIN:VEVENT
DTSTART;TZID=America/Chicago:20210302T120000
DTEND;TZID=America/Chicago:20210302T130000
DTSTAMP:20260423T100218
CREATED:20210226T172627Z
LAST-MODIFIED:20210226T172627Z
UID:13256-1614686400-1614690000@www.thearcofil.org
SUMMARY:Evaluation: What Parents Should Know to Get Started   presented by FRCD
DESCRIPTION:Is your child struggling in school? Do you suspect your child may need special education services\, but don’t know how to get started? This may be the webinar for you. The evaluation is one of the first phases to obtaining an IEP for your child. \nThis webinar will discuss: \n\nThe purposes of evaluations\,\nHow and when to request an evaluation\,\nThe parents’/guardians’ role in the evaluation process.\nYour child’s rights under IDEA\,\n\nIndependent Educational Evaluation (IEE). \nClick on link  to Register \n 
URL:https://www.thearcofil.org/event/evaluation-what-parents-should-know-to-get-started-presented-by-frcd/
END:VEVENT
BEGIN:VEVENT
DTSTART;TZID=America/Chicago:20210302T140000
DTEND;TZID=America/Chicago:20210302T150000
DTSTAMP:20260423T100218
CREATED:20210301T165233Z
LAST-MODIFIED:20210301T165454Z
UID:13280-1614693600-1614697200@www.thearcofil.org
SUMMARY:WOW Meeting
DESCRIPTION:We will watch parts of the webinar that the Arc hosted last week about racism and TJ Gordon will be with us to answer questions and guide our discussion. \nOn another note\, we realize that people are starting to return to workshop and day program and we want to let you know that if we need to meet at a different time we will.  If you have ideas about times let us know. \nLeanne Mull she/her is inviting you to a scheduled Zoom meeting. \n  \nTopic: Weekly Wow Meetings! \nTime: Tuesday March 2\, 2021 and Thursday March 4\, 2021 \n Join Zoom Meeting \nhttps://us02web.zoom.us/j/81069446373 \nMeeting ID: 810 6944 6373 \nOne tap mobile \n+13126266799\,\,81069446373# US (Chicago) \n  \nDial by your location \n        +1 312 626 6799 US (Chicago) \nMeeting ID: 810 6944 6373 \nFind your local number: https://us02web.zoom.us/u/kZrNqzxbV \n  \n 
URL:https://www.thearcofil.org/event/wow-meeting-4/
END:VEVENT
BEGIN:VEVENT
DTSTART;TZID=America/Chicago:20210302T190000
DTEND;TZID=America/Chicago:20210302T200000
DTSTAMP:20260423T100218
CREATED:20210301T154946Z
LAST-MODIFIED:20210301T155619Z
UID:13278-1614711600-1614715200@www.thearcofil.org
SUMMARY:Abilities Speaker Series  featuring Chris Klein sponsored Glenview Education Foundation
DESCRIPTION:Chris Klein \nGraduate of Hope College\,speaker and recently elected President of the United States Society of\nAugmentative Alternative Communication (USSAAC). \nTINYURL.COM/D34ABILITIES1   (PASSCODE AAC) \nInterpretation in Spanish Korean and Mongolian available \n 
URL:https://www.thearcofil.org/event/abilities-speaker-series-sponsored-glenview-education-foundation/
END:VEVENT
END:VCALENDAR