BEGIN:VCALENDAR
VERSION:2.0
PRODID:-//The Arc of Illinois - ECPv6.15.17.1//NONSGML v1.0//EN
CALSCALE:GREGORIAN
METHOD:PUBLISH
X-WR-CALNAME:The Arc of Illinois
X-ORIGINAL-URL:https://www.thearcofil.org
X-WR-CALDESC:Events for The Arc of Illinois
REFRESH-INTERVAL;VALUE=DURATION:PT1H
X-Robots-Tag:noindex
X-PUBLISHED-TTL:PT1H
BEGIN:VTIMEZONE
TZID:America/Chicago
BEGIN:DAYLIGHT
TZOFFSETFROM:-0600
TZOFFSETTO:-0500
TZNAME:CDT
DTSTART:20220313T080000
END:DAYLIGHT
BEGIN:STANDARD
TZOFFSETFROM:-0500
TZOFFSETTO:-0600
TZNAME:CST
DTSTART:20221106T070000
END:STANDARD
BEGIN:DAYLIGHT
TZOFFSETFROM:-0600
TZOFFSETTO:-0500
TZNAME:CDT
DTSTART:20230312T080000
END:DAYLIGHT
BEGIN:STANDARD
TZOFFSETFROM:-0500
TZOFFSETTO:-0600
TZNAME:CST
DTSTART:20231105T070000
END:STANDARD
BEGIN:DAYLIGHT
TZOFFSETFROM:-0600
TZOFFSETTO:-0500
TZNAME:CDT
DTSTART:20240310T080000
END:DAYLIGHT
BEGIN:STANDARD
TZOFFSETFROM:-0500
TZOFFSETTO:-0600
TZNAME:CST
DTSTART:20241103T070000
END:STANDARD
END:VTIMEZONE
BEGIN:VEVENT
DTSTART;TZID=America/Chicago:20231216T100000
DTEND;TZID=America/Chicago:20231216T113000
DTSTAMP:20260423T064253
CREATED:20231204T210317Z
LAST-MODIFIED:20231204T210317Z
UID:22602-1702720800-1702726200@www.thearcofil.org
SUMMARY:Individual and Family Forums
DESCRIPTION:Decades ago\, The Arc network was formed by parents in response to the lack of available education services or community supports for their children with disabilities. Though much has been accomplished over many years\, there remains much to do to assure that individuals with disabilities in Illinois are able to live\, work\, learn\, and play in their communities. \nPlease join Amie Lulinski\, PhD\, Executive Director of The Arc of Illinois\, for an Individual and Family Forum for individuals with intellectual and developmental disabilities and their families and share your thoughts about what The Arc of IL needs to know about your support needs to advocate on your behalf in Springfield? \nLocation: \nCicero Community Center \n2250 South 49th Ave\nCicero\, IL 60804 \nRegistration is recommended: info@thearcofil.org or 815.464.1832
URL:https://www.thearcofil.org/event/individual-and-family-forums-5/
LOCATION:Cicero Community Center\, 2250 South 49th Avenue\, Cicero\, IL\, 60804
CATEGORIES:Arc Events
END:VEVENT
END:VCALENDAR