BEGIN:VCALENDAR
VERSION:2.0
PRODID:-//The Arc of Illinois - ECPv6.15.17.1//NONSGML v1.0//EN
CALSCALE:GREGORIAN
METHOD:PUBLISH
X-ORIGINAL-URL:https://www.thearcofil.org
X-WR-CALDESC:Events for The Arc of Illinois
REFRESH-INTERVAL;VALUE=DURATION:PT1H
X-Robots-Tag:noindex
X-PUBLISHED-TTL:PT1H
BEGIN:VTIMEZONE
TZID:America/Chicago
BEGIN:DAYLIGHT
TZOFFSETFROM:-0600
TZOFFSETTO:-0500
TZNAME:CDT
DTSTART:20230312T080000
END:DAYLIGHT
BEGIN:STANDARD
TZOFFSETFROM:-0500
TZOFFSETTO:-0600
TZNAME:CST
DTSTART:20231105T070000
END:STANDARD
BEGIN:DAYLIGHT
TZOFFSETFROM:-0600
TZOFFSETTO:-0500
TZNAME:CDT
DTSTART:20240310T080000
END:DAYLIGHT
BEGIN:STANDARD
TZOFFSETFROM:-0500
TZOFFSETTO:-0600
TZNAME:CST
DTSTART:20241103T070000
END:STANDARD
BEGIN:DAYLIGHT
TZOFFSETFROM:-0600
TZOFFSETTO:-0500
TZNAME:CDT
DTSTART:20250309T080000
END:DAYLIGHT
BEGIN:STANDARD
TZOFFSETFROM:-0500
TZOFFSETTO:-0600
TZNAME:CST
DTSTART:20251102T070000
END:STANDARD
END:VTIMEZONE
BEGIN:VEVENT
DTSTART;TZID=America/Chicago:20240422T120000
DTEND;TZID=America/Chicago:20240617T131500
DTSTAMP:20260422T033622
CREATED:20240408T162347Z
LAST-MODIFIED:20240408T162347Z
UID:23601-1713787200-1718630100@www.thearcofil.org
SUMMARY:Project ECHO®  Growing Older with Lifelong Intellectual Disabilities: When Dementia is Suspected or Diagnosed Bi-weekly\, April 22 - June 17\, Noon-1:15pm (EDT)
DESCRIPTION:Project ECHO®  Growing Older with Lifelong Intellectual Disabilities:\nWhen Dementia is Suspected or Diagnosed\nBi-weekly\, April 22 – June 17\, Noon-1:15pm (EDT)\n\n\n\n\n\nThis Project ECHO series is a free\, practical\, case-based education program for health care and service providers who want to enhance their knowledge\, competence\, and performance related to the care of people with intellectual and developmental disabilities affected by dementia.  Each ECHO session will include a short presentation by a topic expert\, followed by a case study submitted in advance by an ECHO participant site\, and then open discussion to learn from one another. \n\n\n\n\n\n\nApril 22 – Care Planning with the NTG – Early Detection and Screen for Dementia (NTG-EDSD)\nLucille Esralew\, PhD \nSenior Psychologist\, California Department of Developmental Services \nChair\, NTG Scientific/Research Consultative Panel \nCo-Chair\, NTG Advisory Board \n\n\n\n\n\n\nMay 6 – Addressing Brain Health in Adults With I/DD: A Companion to the KAER Toolkit\nJennifer L. Pettis\, MS\, RN\, CNE \nDirector of Strategic Alliances \nGerontological Society of America \n\n\n\n\n\n\nMay 20 – Skills2Care-ID Program\nE. Adel Herge\, OTD\, OTR/L\, FAOTA \nProgram Coordinator\, BS-OTD East Falls \nProfessor\, Department of Occupational Therapy \nCollege of Rehabilitation Sciences\, Thomas Jefferson University \n\n\n\n\n\n\nJune 3 – A Professional and Personal Perspective\nProfessional and Personal perspective – Submit & Comply \nJoan E Medlen\, MEd\, RDN \nOregon WIC Training Coordinator \n\n\n\n\n\n\nJune 17 – End-of-Life Ethical Considerations\nEnd-of-Life Ethical Considerations \nJeanne Kerwin\, DMH\, HEC-C \nCo-Chair for the Ethics Consultation Service for the American Clinicians Academy on Medical Aid in Dying \n\n\n\n\n\n\nOUR INTERPROFESSIONAL HUB TEAM OF EXPERTS \nGerontologist Kathleen Bishop\, PhD \nAdministrator Ashara Edwards\, MS \nPsychologist Matthew P. Janicki\, PhD \nNutritionist Catherine Conway\, MS\, RDN\, CDN\, CDCES \nNeurologist Seth M. Keller\, MD \nGerontologist Phillip Clark\, ScD \nGerontologist Edward Ansello\, PhD \nNurse Practitioner Kathy Service\, RN\, MS\, FNP-BC\, CDDN \n\n\n\n\n\n\nQuestions? Want to learn more? Please contact Faith Helm at rigec@etal.uri.edu
URL:https://www.thearcofil.org/event/project-echo-growing-older-with-lifelong-intellectual-disabilities-when-dementia-is-suspected-or-diagnosed-bi-weekly-april-22-june-17-noon-115pm-edt/
END:VEVENT
BEGIN:VEVENT
DTSTART;TZID=America/Chicago:20240509T180000
DTEND;TZID=America/Chicago:20240509T190000
DTSTAMP:20260422T033622
CREATED:20240424T164237Z
LAST-MODIFIED:20240424T164237Z
UID:23725-1715277600-1715281200@www.thearcofil.org
SUMMARY:Respiro de emergencia: lo que necesita saber
DESCRIPTION:Respiro de emergencia: lo que necesita saber \n9 de mayo de 2024 \n6:00 – 7:00 PM \n  \n  \nÚnase a FRCD mientras organizamos un seminario web presentado por la Coalición de Respiro de Illinois y aprenda cómo puede acceder al Respiro de emergencia \n  \n  \nEl Programa de Cuidados de Relevo de Emergencia (ERC) con la agencia principal IDHS- DDD\, coordinado por el IRC-Illinois Respite Coalition\, está destinado a ayudar a los cuidadores de personas con cualquier discapacidad a lo largo de la vida. El IRC está apto para ofrecer financiación para apoyar a cuidadores en una emergencia planeada o no planeada. En una situación de crisis o emergencia\, el sueldo del programa ERC ayuda a cubrir el costo de la supervisión del ser querido del cuidador. \n  \n¿Quién es elegible? \n  \nLas personas elegibles son cuidadores que viven en Illinois que están cuidando un ser querido con discapacidad de cualquier edad y no están recibiendo ningún otro fondo estatal o de exención. Los cuidadores elegibles se consideran en una situación de \nemergencia donde no hay otros servicios disponibles que los puedan ayudar en momentos de crisis.
URL:https://www.thearcofil.org/event/respiro-de-emergencia-lo-que-necesita-saber/
LOCATION:Webinar
ORGANIZER;CN="Family Resource Center on Disability":MAILTO:info@frcd.org
END:VEVENT
END:VCALENDAR