BEGIN:VCALENDAR
VERSION:2.0
PRODID:-//The Arc of Illinois - ECPv6.15.17.1//NONSGML v1.0//EN
CALSCALE:GREGORIAN
METHOD:PUBLISH
X-WR-CALNAME:The Arc of Illinois
X-ORIGINAL-URL:https://www.thearcofil.org
X-WR-CALDESC:Events for The Arc of Illinois
REFRESH-INTERVAL;VALUE=DURATION:PT1H
X-Robots-Tag:noindex
X-PUBLISHED-TTL:PT1H
BEGIN:VTIMEZONE
TZID:America/Chicago
BEGIN:DAYLIGHT
TZOFFSETFROM:-0600
TZOFFSETTO:-0500
TZNAME:CDT
DTSTART:20230312T080000
END:DAYLIGHT
BEGIN:STANDARD
TZOFFSETFROM:-0500
TZOFFSETTO:-0600
TZNAME:CST
DTSTART:20231105T070000
END:STANDARD
BEGIN:DAYLIGHT
TZOFFSETFROM:-0600
TZOFFSETTO:-0500
TZNAME:CDT
DTSTART:20240310T080000
END:DAYLIGHT
BEGIN:STANDARD
TZOFFSETFROM:-0500
TZOFFSETTO:-0600
TZNAME:CST
DTSTART:20241103T070000
END:STANDARD
BEGIN:DAYLIGHT
TZOFFSETFROM:-0600
TZOFFSETTO:-0500
TZNAME:CDT
DTSTART:20250309T080000
END:DAYLIGHT
BEGIN:STANDARD
TZOFFSETFROM:-0500
TZOFFSETTO:-0600
TZNAME:CST
DTSTART:20251102T070000
END:STANDARD
END:VTIMEZONE
BEGIN:VEVENT
DTSTART;TZID=America/Chicago:20240916T100000
DTEND;TZID=America/Chicago:20241202T140000
DTSTAMP:20260421T093847
CREATED:20240916T153620Z
LAST-MODIFIED:20240916T153620Z
UID:24171-1726480800-1733148000@www.thearcofil.org
SUMMARY:Gompers Park Social Club For Adults (18+) With an Intellectual Disability.
DESCRIPTION:Gompers Park Social Club For Adults (18+) With an Intellectual Disability. \nWhen: September 9-December 2\, Mondays 10:00 am 2:00 pm \nLocation: Gompers Park 4222 W. Foster Ave. \n  \nFor more information or registration\, please contact Mandy Liu at mandy.liu@chicagoparkdistrict.com\, 312-881-0779
URL:https://www.thearcofil.org/event/gompers-park-social-club-for-adults-18-with-an-intellectual-disability/
ORGANIZER;CN="Chicago Park District":MAILTO:mandy.liu@chicagoparkdistrict.com
END:VEVENT
BEGIN:VEVENT
DTSTART;TZID=America/Chicago:20240917T100000
DTEND;TZID=America/Chicago:20241203T140000
DTSTAMP:20260421T093847
CREATED:20240916T155705Z
LAST-MODIFIED:20240916T155705Z
UID:24175-1726567200-1733234400@www.thearcofil.org
SUMMARY:Dvorak Park Fun & Games For Adults (18+) With an Intellectual Disability.
DESCRIPTION:Dvorak Park Fun & Games For Adults (18+) With an Intellectual Disability.\nWhen: September 10-December 3 Tuesdays 10 AM-2:00 PM \nLocation: Dvorak Park 1119 W. Cullerton St. \n  \nFor more information or registration\, please contact Mandy Liu at mandy.liu@chicagoparkdistrict.com\, 312-881-0779
URL:https://www.thearcofil.org/event/dvorak-park-fun-games-for-adults-18-with-an-intellectual-disability/
ORGANIZER;CN="Chicago Park District":MAILTO:mandy.liu@chicagoparkdistrict.com
END:VEVENT
BEGIN:VEVENT
DTSTART;TZID=America/Chicago:20240917T153000
DTEND;TZID=America/Chicago:20241203T163000
DTSTAMP:20260421T093847
CREATED:20240916T155453Z
LAST-MODIFIED:20240916T155453Z
UID:24174-1726587000-1733243400@www.thearcofil.org
SUMMARY:Dvorak Park Music and Movement For ages 3-7 Year Olds With An Intellectual Disability
DESCRIPTION:Dvorak Park Music and Movement For ages 3-7 Year Olds With An Intellectual Disability\nWhen: September 10-December 3\, Tuesdays 3:30 PM-4:30 PM \nLocation: Dvorak Park 1119 W. Cullerton St. \n  \n\n\n\n\n\n\n\nFor more information or registration\, please contact Mandy Liu at mandy.liu@chicagoparkdistrict.com\, 312-881-0779
URL:https://www.thearcofil.org/event/dvorak-park-music-and-movement-for-ages-3-7-year-olds-with-an-intellectual-disability/
ORGANIZER;CN="Chicago Park District":MAILTO:mandy.liu@chicagoparkdistrict.com
END:VEVENT
BEGIN:VEVENT
DTSTART;TZID=America/Chicago:20240918T093000
DTEND;TZID=America/Chicago:20240918T110000
DTSTAMP:20260421T093847
CREATED:20240909T165424Z
LAST-MODIFIED:20240909T165424Z
UID:24133-1726651800-1726657200@www.thearcofil.org
SUMMARY:Equip for Equality's September back-to-school-season Disability Rights Consortium
DESCRIPTION:Equip for Equality’s back-to-school-season Disability Rights Consortium session will feature Vanessa Aceves\, Staff Attorney and Equal Justice Works Fellow in Equip for Equality’s Special Education Clinic. Vanessa will present on her Equal Justice Works project (website Vanessa Aceves – Equal Justice Works)\, which focuses on communication devices for students with disabilities. Her presentation will (1) define alternative and augmentative communication (“AAC”)\, (2) explain the law that protects access to AAC in school\, and (3) provide case examples demonstrating the positive impact that AAC can provide for students with limited spoken communication skills.
URL:https://www.thearcofil.org/event/equip-for-equalitys-september-back-to-school-season-disability-rights-consortium/
LOCATION:Webinar
END:VEVENT
END:VCALENDAR