BEGIN:VCALENDAR
VERSION:2.0
PRODID:-//The Arc of Illinois - ECPv6.15.17.1//NONSGML v1.0//EN
CALSCALE:GREGORIAN
METHOD:PUBLISH
X-ORIGINAL-URL:https://www.thearcofil.org
X-WR-CALDESC:Events for The Arc of Illinois
REFRESH-INTERVAL;VALUE=DURATION:PT1H
X-Robots-Tag:noindex
X-PUBLISHED-TTL:PT1H
BEGIN:VTIMEZONE
TZID:America/Chicago
BEGIN:DAYLIGHT
TZOFFSETFROM:-0600
TZOFFSETTO:-0500
TZNAME:CDT
DTSTART:20250309T080000
END:DAYLIGHT
BEGIN:STANDARD
TZOFFSETFROM:-0500
TZOFFSETTO:-0600
TZNAME:CST
DTSTART:20251102T070000
END:STANDARD
BEGIN:DAYLIGHT
TZOFFSETFROM:-0600
TZOFFSETTO:-0500
TZNAME:CDT
DTSTART:20260308T080000
END:DAYLIGHT
BEGIN:STANDARD
TZOFFSETFROM:-0500
TZOFFSETTO:-0600
TZNAME:CST
DTSTART:20261101T070000
END:STANDARD
BEGIN:DAYLIGHT
TZOFFSETFROM:-0600
TZOFFSETTO:-0500
TZNAME:CDT
DTSTART:20270314T080000
END:DAYLIGHT
BEGIN:STANDARD
TZOFFSETFROM:-0500
TZOFFSETTO:-0600
TZNAME:CST
DTSTART:20271107T070000
END:STANDARD
END:VTIMEZONE
BEGIN:VEVENT
DTSTART;TZID=America/Chicago:20260224T163000
DTEND;TZID=America/Chicago:20260224T180000
DTSTAMP:20260421T101910
CREATED:20260217T184334Z
LAST-MODIFIED:20260217T184334Z
UID:26413-1771950600-1771956000@www.thearcofil.org
SUMMARY:Family Support Group
DESCRIPTION:Join us for a supportive space created just for family members and caregivers. This is a place to gain clarity\, ask questions\, share experiences\, or simply listen. \nWhether you have something to say or just need a listening ear\, come as you are. \nLeave feeling a little lighter\, a little more supported\, and a lot more understood. \nRegister here. \n  \nSpecial Guest! \nSam Miller is the Founder of Dreaming Made Simple. He was born with cerebral palsy and has a passion for helping people overcome limitations and setbacks through discovering practical steps to reach their dreams and goals. Sam is certified by the world’s No. 1 leadership expert\, John Maxwell\, to coach\, speak\, and train. He is the author of “I’MPOSSIBLE: Life Lessons on Thriving with a Disability and The Dreaming Made Simple Starter Guide.”
URL:https://www.thearcofil.org/event/family-support-group-4/
END:VEVENT
END:VCALENDAR