BEGIN:VCALENDAR
VERSION:2.0
PRODID:-//The Arc of Illinois - ECPv6.15.17.1//NONSGML v1.0//EN
CALSCALE:GREGORIAN
METHOD:PUBLISH
X-WR-CALNAME:The Arc of Illinois
X-ORIGINAL-URL:https://www.thearcofil.org
X-WR-CALDESC:Events for The Arc of Illinois
REFRESH-INTERVAL;VALUE=DURATION:PT1H
X-Robots-Tag:noindex
X-PUBLISHED-TTL:PT1H
BEGIN:VTIMEZONE
TZID:America/Chicago
BEGIN:DAYLIGHT
TZOFFSETFROM:-0600
TZOFFSETTO:-0500
TZNAME:CDT
DTSTART:20200308T080000
END:DAYLIGHT
BEGIN:STANDARD
TZOFFSETFROM:-0500
TZOFFSETTO:-0600
TZNAME:CST
DTSTART:20201101T070000
END:STANDARD
BEGIN:DAYLIGHT
TZOFFSETFROM:-0600
TZOFFSETTO:-0500
TZNAME:CDT
DTSTART:20210314T080000
END:DAYLIGHT
BEGIN:STANDARD
TZOFFSETFROM:-0500
TZOFFSETTO:-0600
TZNAME:CST
DTSTART:20211107T070000
END:STANDARD
BEGIN:DAYLIGHT
TZOFFSETFROM:-0600
TZOFFSETTO:-0500
TZNAME:CDT
DTSTART:20220313T080000
END:DAYLIGHT
BEGIN:STANDARD
TZOFFSETFROM:-0500
TZOFFSETTO:-0600
TZNAME:CST
DTSTART:20221106T070000
END:STANDARD
END:VTIMEZONE
BEGIN:VEVENT
DTSTART;TZID=America/Chicago:20210204T120000
DTEND;TZID=America/Chicago:20210204T130000
DTSTAMP:20260420T074933
CREATED:20210107T202100Z
LAST-MODIFIED:20210107T202100Z
UID:12757-1612440000-1612443600@www.thearcofil.org
SUMMARY:Arc of IL Family to Family Health Information Center    Telehealth Family Series in English
DESCRIPTION:More information to come
URL:https://www.thearcofil.org/event/arc-of-il-family-to-family-health-information-center-telehealth-family-series-in-english/
CATEGORIES:Arc Events
END:VEVENT
BEGIN:VEVENT
DTSTART;TZID=America/Chicago:20210209T120000
DTEND;TZID=America/Chicago:20210209T130000
DTSTAMP:20260420T074933
CREATED:20201208T224449Z
LAST-MODIFIED:20201211T184706Z
UID:12544-1612872000-1612875600@www.thearcofil.org
SUMMARY:ILS Lunchtime Webinar - What is a Center for Independent Living?
DESCRIPTION:Please join us from Noon to 1:00 PM on Tuesday\, February 9\, 2021 for the ILS Lunchtime Webinar – What is a Center for Independent Living (CIL)? presented by Shelly Richardson\, Executive Director for the Statewide Independent Living Council (SILC) of Illinois! \nParticipants will learn about: \n\nA Brief History and Philosophy of the Independent Living Movement\nThe Network of CILs in Illinois\nThe 5 core services offered by every CIL\nOther Services\nQuestions?\n\nRegister in advance for this webinar at: \nhttps://us02web.zoom.us/webinar/register/WN_opLTQ-KsR-CvgfOeBLVUOA \nAfter registering\, you will receive a confirmation email containing information about joining the webinar. \nPresented by Shelly Richardson\, Executive Director of the Statewide Independent Living Council (SILC) of Illinois. As Director\, she works with the 22 Centers for Independent Living (CILs)\, and other agencies across the state\, to provide the leadership\, research\, planning\, and education required to support independent living services for people with disabilities across Illinois. She also serves as a member of the Statewide Rehabilitation Council (SRC) of Illinois\, Illinois Social Services Advisory Council (ISSAC)\, Illinois Assistive Technology Program (IATP) Advisory Council\, Housing Action Illinois (HAI) Board\, and has been a long-time member of HAI’s Advocacy Advisory Group. \nMs. Richardson was previously employed by IMPACT\, CIL\, one of the 22 Centers for Independent Living located in Alton\, where she served as one of the Community Reintegration Specialists –now referred to as Transition Coordinators—for the Money Follows the Person (MFP) Program. She also served as the CIL’s Housing Specialist. She has been a long-time advocate for disability rights. \nMore information coming soon!
URL:https://www.thearcofil.org/event/ils-lunchtime-webinar-centers-for-independent-living/
LOCATION:Webinar
CATEGORIES:Arc Events
ORGANIZER;CN="Illinois Life Span Program":MAILTO:rocio@thearcofil.org
END:VEVENT
BEGIN:VEVENT
DTSTART;TZID=America/Chicago:20210210T080000
DTEND;TZID=America/Chicago:20210211T160000
DTSTAMP:20260420T074933
CREATED:20200228T204557Z
LAST-MODIFIED:20210128T193050Z
UID:10496-1612944000-1613059200@www.thearcofil.org
SUMMARY:Executive Leadership Conference
DESCRIPTION:Click here for more information and to register\, https://www.thearcofil.org/executive-leadership-2021-conference/
URL:https://www.thearcofil.org/event/executive-leadership-conference-2/
CATEGORIES:Arc Events
END:VEVENT
BEGIN:VEVENT
DTSTART;TZID=America/Chicago:20210218T180000
DTEND;TZID=America/Chicago:20210218T190000
DTSTAMP:20260420T074933
CREATED:20210107T202751Z
LAST-MODIFIED:20210107T202751Z
UID:12760-1613671200-1613674800@www.thearcofil.org
SUMMARY:El Centro de Información de Salud Familia a Familia  Arc of IL -  Serie de talleres sobre Tele-Salud en Español
DESCRIPTION:Próximamente más detalles é información \n 
URL:https://www.thearcofil.org/event/el-centro-de-informacion-de-salud-familia-a-familia-arc-of-il-serie-de-talleres-sobre-tele-salud-en-espanol/
CATEGORIES:Arc Events
END:VEVENT
BEGIN:VEVENT
DTSTART;TZID=America/Chicago:20210223T120000
DTEND;TZID=America/Chicago:20210223T130000
DTSTAMP:20260420T074933
CREATED:20210111T165820Z
LAST-MODIFIED:20210111T165820Z
UID:12788-1614081600-1614085200@www.thearcofil.org
SUMMARY:Family to Family Health Information Center Webinar Series
DESCRIPTION:Healthcare: IL Medicaid Covers Applied Behavior Analysis Yet it Remains Difficult to Access – What’s Happening? \nhttps://us02web.zoom.us/webinar/register/WN_49-RUOT7TTaWPqJtU7Sh0w
URL:https://www.thearcofil.org/event/family-to-family-health-information-center-webinar-series-2/
CATEGORIES:Arc Events
END:VEVENT
BEGIN:VEVENT
DTSTART;TZID=America/Chicago:20210224T120000
DTEND;TZID=America/Chicago:20210224T130000
DTSTAMP:20260420T074933
CREATED:20210106T173107Z
LAST-MODIFIED:20210106T173107Z
UID:12714-1614168000-1614171600@www.thearcofil.org
SUMMARY:Ligas Family Advocate Virtual Know Your Options
DESCRIPTION:Join us for a short introduction to the Medicaid Home and Community Based\nWaiver\, including developmental disability support/service options\, types of\nservice management\, and a review of core resources and support agencies. We\nwill review key steps that families need to take in order to be prepared to\nparticipate in planning. The presentations will be facilitated monthly by the Ligas\nFamily Advocate team. Any family or self- advocate who received a 2021 letter of\nEarly Notification from DHS regarding a likely PUNS selection in mid-2021 is\ninvited to participate virtually through Zoom. Each session will have a short\npresentation and 30-minute Q & A and discussion. Join one or sign into all of\nthem. \nClick here to register\, https://us02web.zoom.us/webinar/register/WN_NYQQbQN4Rn2pqkgleOBEag
URL:https://www.thearcofil.org/event/ligas-family-advocate-virtual-know-your-options-2/
CATEGORIES:Arc Events
END:VEVENT
BEGIN:VEVENT
DTSTART;TZID=America/Chicago:20210225T120000
DTEND;TZID=America/Chicago:20210225T130000
DTSTAMP:20260420T074933
CREATED:20210107T202154Z
LAST-MODIFIED:20210107T202154Z
UID:12758-1614254400-1614258000@www.thearcofil.org
SUMMARY:Arc of IL Family to Family Health Information Center Telehealth Family Series in English
DESCRIPTION:More information to come \n 
URL:https://www.thearcofil.org/event/arc-of-il-family-to-family-health-information-center-telehealth-family-series-in-english-2/
CATEGORIES:Arc Events
END:VEVENT
END:VCALENDAR