BEGIN:VCALENDAR
VERSION:2.0
PRODID:-//The Arc of Illinois - ECPv6.15.17.1//NONSGML v1.0//EN
CALSCALE:GREGORIAN
METHOD:PUBLISH
X-ORIGINAL-URL:https://www.thearcofil.org
X-WR-CALDESC:Events for The Arc of Illinois
REFRESH-INTERVAL;VALUE=DURATION:PT1H
X-Robots-Tag:noindex
X-PUBLISHED-TTL:PT1H
BEGIN:VTIMEZONE
TZID:America/Chicago
BEGIN:DAYLIGHT
TZOFFSETFROM:-0600
TZOFFSETTO:-0500
TZNAME:CDT
DTSTART:20220313T080000
END:DAYLIGHT
BEGIN:STANDARD
TZOFFSETFROM:-0500
TZOFFSETTO:-0600
TZNAME:CST
DTSTART:20221106T070000
END:STANDARD
BEGIN:DAYLIGHT
TZOFFSETFROM:-0600
TZOFFSETTO:-0500
TZNAME:CDT
DTSTART:20230312T080000
END:DAYLIGHT
BEGIN:STANDARD
TZOFFSETFROM:-0500
TZOFFSETTO:-0600
TZNAME:CST
DTSTART:20231105T070000
END:STANDARD
BEGIN:DAYLIGHT
TZOFFSETFROM:-0600
TZOFFSETTO:-0500
TZNAME:CDT
DTSTART:20240310T080000
END:DAYLIGHT
BEGIN:STANDARD
TZOFFSETFROM:-0500
TZOFFSETTO:-0600
TZNAME:CST
DTSTART:20241103T070000
END:STANDARD
END:VTIMEZONE
BEGIN:VEVENT
DTSTART;TZID=America/Chicago:20231018T120000
DTEND;TZID=America/Chicago:20231018T130000
DTSTAMP:20260424T221046
CREATED:20221213T170603Z
LAST-MODIFIED:20230825T154033Z
UID:19611-1697630400-1697634000@www.thearcofil.org
SUMMARY:ILS & F2F Webinar Series: Focus on Shirley Ryan Ability Lab (SRAL)
DESCRIPTION:The audience will be able to:\nUnderstand the patient population served at SRAL\nDescribe the services available to patients at SRAL and how to access them. \nPresenter: Chris Lau\nChris Lau is a Licensed Social Worker in outpatient pediatrics at the SRAL since 2008. Chris supports patients and their families as they navigate disability throughout childhood with a focus on helping them transition into adulthood. Along with a pediatric speech therapist\, Chris runs a transition group aimed at helping teens and young adults learn independent living skills such as cooking\, community transportation\, money management\, medical management and education/employment. Chris is passionate about connecting patients and families to resources and to each other. \nStephany Kunzweiler PT\, DPT Clinical Manager-Inpatient & Outpatient Pediatrics overseeing Inpatient and Outpatient Pediatric Therapies at the SRAL. Stephany completed her Doctor of Physical Therapy (DPT) degree at Columbia University and Bachelor of Science at Boston College. and has been working as a pediatric therapist within at SRAL for 10 years. She has completed advanced training in cardiopulmonary therapy techniques and developed the Pediatric Cardiopulmonary Lab specialty role serving inpatient pediatric patients at SRAL. A specific passion area of Stephany’s is working with pediatric and adult patients with neurological weakness who are working to wean from mechanical ventilator support. \nRegister in advance for this webinar: \nhttps://us02web.zoom.us/webinar/register/WN__P5-95JRRLiR61sVQ1Q6CA \nAfter registering\, you will receive a confirmation email containing information about joining the webinar.
URL:https://www.thearcofil.org/event/ils-f2f-lunchtime-webinar-shirley-ryan-ability-lab/
CATEGORIES:Arc Events
ORGANIZER;CN="Illinois Life Span Program":MAILTO:rocio@thearcofil.org
END:VEVENT
END:VCALENDAR