BEGIN:VCALENDAR
VERSION:2.0
PRODID:-//The Arc of Illinois - ECPv6.15.17.1//NONSGML v1.0//EN
CALSCALE:GREGORIAN
METHOD:PUBLISH
X-WR-CALNAME:The Arc of Illinois
X-ORIGINAL-URL:https://www.thearcofil.org
X-WR-CALDESC:Events for The Arc of Illinois
REFRESH-INTERVAL;VALUE=DURATION:PT1H
X-Robots-Tag:noindex
X-PUBLISHED-TTL:PT1H
BEGIN:VTIMEZONE
TZID:America/Chicago
BEGIN:DAYLIGHT
TZOFFSETFROM:-0600
TZOFFSETTO:-0500
TZNAME:CDT
DTSTART:20220313T080000
END:DAYLIGHT
BEGIN:STANDARD
TZOFFSETFROM:-0500
TZOFFSETTO:-0600
TZNAME:CST
DTSTART:20221106T070000
END:STANDARD
BEGIN:DAYLIGHT
TZOFFSETFROM:-0600
TZOFFSETTO:-0500
TZNAME:CDT
DTSTART:20230312T080000
END:DAYLIGHT
BEGIN:STANDARD
TZOFFSETFROM:-0500
TZOFFSETTO:-0600
TZNAME:CST
DTSTART:20231105T070000
END:STANDARD
BEGIN:DAYLIGHT
TZOFFSETFROM:-0600
TZOFFSETTO:-0500
TZNAME:CDT
DTSTART:20240310T080000
END:DAYLIGHT
BEGIN:STANDARD
TZOFFSETFROM:-0500
TZOFFSETTO:-0600
TZNAME:CST
DTSTART:20241103T070000
END:STANDARD
END:VTIMEZONE
BEGIN:VEVENT
DTSTART;TZID=America/Chicago:20231102T180000
DTEND;TZID=America/Chicago:20231102T193000
DTSTAMP:20260424T202730
CREATED:20231020T144842Z
LAST-MODIFIED:20231020T144842Z
UID:22398-1698948000-1698953400@www.thearcofil.org
SUMMARY:Individual and Family Forums
DESCRIPTION:Decades ago\, The Arc network was formed by parents in response to the lack of available education services or community supports for their children with disabilities. Though much has been accomplished over many years\, there remains much to do to assure that individuals with disabilities in Illinois are able to live\, work\, learn\, and play in their communities. \nPlease join Amie Lulinski\, PhD\, Executive Director of The Arc of Illinois\, for an Individual and Family Forum for individuals with intellectual and developmental disabilities and their families and share your thoughts about what The Arc of IL needs to know about your support needs to advocate on your behalf in Springfield? \nLocation: \nThe Arc of Winnebago\, Boone\, and Ogle Counties \nNIU Rockford \n8500 East State Street\, Rooms 215 and 217\nRockford\, IL 61108 \nRegistration is recommended: info@thearcofil.org or 815.464.1832
URL:https://www.thearcofil.org/event/individual-and-family-forums-2/
LOCATION:NIU Rockford\, 8500 East State Street\, Rockford\, IL\, 61108
CATEGORIES:Arc Events
END:VEVENT
END:VCALENDAR