BEGIN:VCALENDAR
VERSION:2.0
PRODID:-//The Arc of Illinois - ECPv6.15.17.1//NONSGML v1.0//EN
CALSCALE:GREGORIAN
METHOD:PUBLISH
X-WR-CALNAME:The Arc of Illinois
X-ORIGINAL-URL:https://www.thearcofil.org
X-WR-CALDESC:Events for The Arc of Illinois
REFRESH-INTERVAL;VALUE=DURATION:PT1H
X-Robots-Tag:noindex
X-PUBLISHED-TTL:PT1H
BEGIN:VTIMEZONE
TZID:America/Chicago
BEGIN:DAYLIGHT
TZOFFSETFROM:-0600
TZOFFSETTO:-0500
TZNAME:CDT
DTSTART:20250309T080000
END:DAYLIGHT
BEGIN:STANDARD
TZOFFSETFROM:-0500
TZOFFSETTO:-0600
TZNAME:CST
DTSTART:20251102T070000
END:STANDARD
BEGIN:DAYLIGHT
TZOFFSETFROM:-0600
TZOFFSETTO:-0500
TZNAME:CDT
DTSTART:20260308T080000
END:DAYLIGHT
BEGIN:STANDARD
TZOFFSETFROM:-0500
TZOFFSETTO:-0600
TZNAME:CST
DTSTART:20261101T070000
END:STANDARD
BEGIN:DAYLIGHT
TZOFFSETFROM:-0600
TZOFFSETTO:-0500
TZNAME:CDT
DTSTART:20270314T080000
END:DAYLIGHT
BEGIN:STANDARD
TZOFFSETFROM:-0500
TZOFFSETTO:-0600
TZNAME:CST
DTSTART:20271107T070000
END:STANDARD
END:VTIMEZONE
BEGIN:VEVENT
DTSTART;TZID=America/Chicago:20260310T120000
DTEND;TZID=America/Chicago:20260310T130000
DTSTAMP:20260421T041714
CREATED:20250521T193314Z
LAST-MODIFIED:20251210T232423Z
UID:25387-1773144000-1773147600@www.thearcofil.org
SUMMARY:ILS & F2F Lunchtime Webinar: Illinois Secretary of State: Services for People with Disabilities
DESCRIPTION:Presenter: William Bogdan\, Disability Liaison\, Illinois Secretary of State \nDescription:  This webinar will educate persons with disabilities and interested parties on the programs and services offered by the Illinois Secretary of State’s Office. \nRegistration link: https://us02web.zoom.us/webinar/register/WN_J244QrMpSCaXpLvfrF2rrA \n 
URL:https://www.thearcofil.org/event/ils-f2f-lunchtime-webinar-4/
CATEGORIES:Arc Events
ORGANIZER;CN="Illinois Life Span Program":MAILTO:rocio@thearcofil.org
END:VEVENT
END:VCALENDAR